BEGIN:VCALENDAR
VERSION:2.0
PRODID:-//kurven.schule®
CALSCALE:GREGORIAN
METHOD:PUBLISH
X-WR-CALNAME:kurven.schule®
X-ORIGINAL-URL:https://kurven.schule/kursuebersicht/sicherheitstraining-slow-motion/
X-WR-CALDESC:Sicherheitstraining Slow-Motion
BEGIN:VTIMEZONE
TZID:Europe/Helsinki
END:VTIMEZONE
BEGIN:VEVENT
DTSTART;TZID=Europe/Helsinki:20260712T103000
DTEND;TZID=Europe/Helsinki:20260712T143000
DTSTAMP:20260424T212020
UID:7547-andre@kurven.schule
SUMMARY:Sicherheitstraining Slow-Motion
DESCRIPTION:Der Kurs ist bewusst auf vier Stunden beschränkt und stellt den Leitfaden Knoten im Kopf - Kurve verbockt in den mentalen Mittelpunkt. Wir sprechen dich an, wenn du beim Fahren oder schon vor dem Losfahren Angst, Beklemmung oder Unwohlsein verspürst. Wir führen dich näher an dein Motorrad ran, schaffen Vertrautheit, Selbstsicherheit und Kontrolle beim Rangieren und Fahren.
URL:https://kurven.schule/kursuebersicht/sicherheitstraining-slow-motion/
LOCATION:TAMOIL Tankstelle, Gewerbegebiet O 4, 66987 Thaleischweiler-Fröschen, Deutschland
END:VEVENT
END:VCALENDAR
